Workbook
Name Adam: 'Databáze_běžců+Startovka'!$C$6:$C$192

Sheet Databáze_běžců+Startovka
B2: "S KOPEČKA DO KOPEČKA" | H2: =YEAR(D3) -> 2026
D3: 46274 | G3: Startovka
B4: filtruj
B5: Startovní číslo | C5: Přijmení | D5: Jméno | E5: Pohlaví | F5: Rok narození | G5: Oddíl | H5: Kategorie
A6: 1 | B6: 73 | C6: Ambrož | D6: Radek | E6: M | F6: 1993 | G6: AK Olomouc | H6: =IF(E6="M",LOOKUP($H$2-F6,{0;40;50;60;70},{"muži A";"muži B";"muži C";"muži D";"muži E"}),IF(E6="Ž",LOOKUP($H$2-F6,{0;40;50},{"ženy F";"ženy G";"ženy H"}),"ERR")) -> muži A
A7: =A6+1 -> 2 | C7: Arbeit | D7: Jakub | E7: M | F7: 1994 | G7: - | H7: =IF(E7="M",LOOKUP($H$2-F7,{0;40;50;60;70},{"muži A";"muži B";"muži C";"muži D";"muži E"}),IF(E7="Ž",LOOKUP($H$2-F7,{0;40;50},{"ženy F";"ženy G";"ženy H"}),"ERR")) -> muži A
A8: =A7+1 -> 3 | B8: 1 | C8: Aufart | D8: Marek | E8: M | F8: 1986 | G8: -- | H8: =IF(E8="M",LOOKUP($H$2-F8,{0;40;50;60;70},{"muži A";"muži B";"muži C";"muži D";"muži E"}),IF(E8="Ž",LOOKUP($H$2-F8,{0;40;50},{"ženy F";"ženy G";"ženy H"}),"ERR")) -> muži B
A9: =A8+1 -> 4 | C9: Axmann | D9: Karel | E9: M | F9: 1983 | G9: Sokol Nové Sady | H9: =IF(E9="M",LOOKUP($H$2-F9,{0;40;50;60;70},{"muži A";"muži B";"muži C";"muži D";"muži E"}),IF(E9="Ž",LOOKUP($H$2-F9,{0;40;50},{"ženy F";"ženy G";"ženy H"}),"ERR")) -> muži B
A10: =A9+1 -> 5 | C10: Balaban | D10: Vlado | E10: M | F10: 1983 | H10: =IF(E10="M",LOOKUP($H$2-F10,{0;40;50;60;70},{"muži A";"muži B";"muži C";"muži D";"muži E"}),IF(E10="Ž",LOOKUP($H$2-F10,{0;40;50},{"ženy F";"ženy G";"ženy H"}),"ERR")) -> muži B
A11: =A10+1 -> 6 | C11: Balihar | D11: Jiří | E11: M | F11: 1994 | G11: Baliny | H11: =IF(E11="M",LOOKUP($H$2-F11,{0;40;50;60;70},{"muži A";"muži B";"muži C";"muži D";"muži E"}),IF(E11="Ž",LOOKUP($H$2-F11,{0;40;50},{"ženy F";"ženy G";"ženy H"}),"ERR")) -> muži A
A12: =A11+1 -> 7 | C12: Banátová | D12: Kamila | E12: Ž | F12: 1986 | G12: neudáno | H12: =IF(E12="M",LOOKUP($H$2-F12,{0;40;50;60;70},{"muži A";"muži B";"muži C";"muži D";"muži E"}),IF(E12="Ž",LOOKUP($H$2-F12,{0;40;50},{"ženy F";"ženy G";"ženy H"}),"ERR")) -> ženy G
A13: =A12+1 -> 8 | C13: Barabáš | D13: Jan | E13: M | F13: 1976 | G13: TTL Olomouc | H13: =IF(E13="M",LOOKUP($H$2-F13,{0;40;50;60;70},{"muži A";"muži B";"muži C";"muži D";"muži E"}),IF(E13="Ž",LOOKUP($H$2-F13,{0;40;50},{"ženy F";"ženy G";"ženy H"}),"ERR")) -> muži C
A14: =A13+1 -> 9 | C14: Barbořák | D14: Bohuš | E14: M | F14: 1959 | G14: TJ Liga 100 Olomouc | H14: =IF(E14="M",LOOKUP($H$2-F14,{0;40;50;60;70},{"muži A";"muži B";"muži C";"muži D";"muži E"}),IF(E14="Ž",LOOKUP($H$2-F14,{0;40;50},{"ženy F";"ženy G";"ženy H"}),"ERR")) -> muži D
A15: =A14+1 -> 10 | C15: Barbořák | D15: Bohuš | E15: M | F15: 1959 | G15: TJ Liga 100 Olomouc | H15: =IF(E15="M",LOOKUP($H$2-F15,{0;40;50;60;70},{"muži A";"muži B";"muži C";"muži D";"muži E"}),IF(E15="Ž",LOOKUP($H$2-F15,{0;40;50},{"ženy F";"ženy G";"ženy H"}),"ERR")) -> muži D
A16: =A15+1 -> 11 | C16: Bazgerová | D16: Eva | E16: Ž | F16: 1985 | H16: =IF(E16="M",LOOKUP($H$2-F16,{0;40;50;60;70},{"muži A";"muži B";"muži C";"muži D";"muži E"}),IF(E16="Ž",LOOKUP($H$2-F16,{0;40;50},{"ženy F";"ženy G";"ženy H"}),"ERR")) -> ženy G
A17: =A16+1 -> 12 | C17: Belaníková | D17: Anna | E17: Ž | F17: 2002 | G17: AK Olomouc | H17: =IF(E17="M",LOOKUP($H$2-F17,{0;40;50;60;70},{"muži A";"muži B";"muži C";"muži D";"muži E"}),IF(E17="Ž",LOOKUP($H$2-F17,{0;40;50},{"ženy F";"ženy G";"ženy H"}),"ERR")) -> ženy F
A18: =A17+1 -> 13 | C18: Berger | D18: Jan | E18: M | F18: 2000 | G18: AK Olomouc | H18: =IF(E18="M",LOOKUP($H$2-F18,{0;40;50;60;70},{"muži A";"muži B";"muži C";"muži D";"muži E"}),IF(E18="Ž",LOOKUP($H$2-F18,{0;40;50},{"ženy F";"ženy G";"ženy H"}),"ERR")) -> muži A
A19: =A18+1 -> 14 | C19: Bezucha | D19: Jiří | E19: M | F19: 1962 | G19: OS pohyb a zdraví | H19: =IF(E19="M",LOOKUP($H$2-F19,{0;40;50;60;70},{"muži A";"muži B";"muži C";"muži D";"muži E"}),IF(E19="Ž",LOOKUP($H$2-F19,{0;40;50},{"ženy F";"ženy G";"ženy H"}),"ERR")) -> muži D
A20: =A19+1 -> 15 | C20: Bídová | D20: Markéta | E20: Ž | F20: 2003 | G20: SOB Olomouc | H20: =IF(E20="M",LOOKUP($H$2-F20,{0;40;50;60;70},{"muži A";"muži B";"muži C";"muži D";"muži E"}),IF(E20="Ž",LOOKUP($H$2-F20,{0;40;50},{"ženy F";"ženy G";"ženy H"}),"ERR")) -> ženy F
A21: =A20+1 -> 16 | C21: Bielčík | D21: Miroslav | E21: M | F21: 1984 | G21: Šternberk | H21: =IF(E21="M",LOOKUP($H$2-F21,{0;40;50;60;70},{"muži A";"muži B";"muži C";"muži D";"muži E"}),IF(E21="Ž",LOOKUP($H$2-F21,{0;40;50},{"ženy F";"ženy G";"ženy H"}),"ERR")) -> muži B
A22: =A21+1 -> 17 | C22: Bilík | D22: David | E22: M | F22: 1985 | H22: =IF(E22="M",LOOKUP($H$2-F22,{0;40;50;60;70},{"muži A";"muži B";"muži C";"muži D";"muži E"}),IF(E22="Ž",LOOKUP($H$2-F22,{0;40;50},{"ženy F";"ženy G";"ženy H"}),"ERR")) -> muži B
A23: =A22+1 -> 18 | C23: Blaha | D23: Tomáš | E23: M | F23: 1976 | G23: AK Kroměříž | H23: =IF(E23="M",LOOKUP($H$2-F23,{0;40;50;60;70},{"muži A";"muži B";"muži C";"muži D";"muži E"}),IF(E23="Ž",LOOKUP($H$2-F23,{0;40;50},{"ženy F";"ženy G";"ženy H"}),"ERR")) -> muži C
A24: =A23+1 -> 19 | C24: Blažek | D24: Jaroslav | E24: M | F24: 1988 | G24: Fortex Moravský Beroun | H24: =IF(E24="M",LOOKUP($H$2-F24,{0;40;50;60;70},{"muži A";"muži B";"muži C";"muži D";"muži E"}),IF(E24="Ž",LOOKUP($H$2-F24,{0;40;50},{"ženy F";"ženy G";"ženy H"}),"ERR")) -> muži A
A25: =A24+1 -> 20 | C25: Borecký | D25: Petr | E25: M | F25: 1980 | G25: - | H25: =IF(E25="M",LOOKUP($H$2-F25,{0;40;50;60;70},{"muži A";"muži B";"muži C";"muži D";"muži E"}),IF(E25="Ž",LOOKUP($H$2-F25,{0;40;50},{"ženy F";"ženy G";"ženy H"}),"ERR")) -> muži B
A26: =A25+1 -> 21 | C26: Bořánek | D26: Michal | E26: M | F26: 2000 | G26: SKI OB Šternberk | H26: =IF(E26="M",LOOKUP($H$2-F26,{0;40;50;60;70},{"muži A";"muži B";"muži C";"muži D";"muži E"}),IF(E26="Ž",LOOKUP($H$2-F26,{0;40;50},{"ženy F";"ženy G";"ženy H"}),"ERR")) -> muži A
A27: =A26+1 -> 22 | C27: Bořánková | D27: Karolína | E27: Ž | F27: 1995 | G27: OK Kamenice | H27: =IF(E27="M",LOOKUP($H$2-F27,{0;40;50;60;70},{"muži A";"muži B";"muži C";"muži D";"muži E"}),IF(E27="Ž",LOOKUP($H$2-F27,{0;40;50},{"ženy F";"ženy G";"ženy H"}),"ERR")) -> ženy F
A28: =A27+1 -> 23 | B28: 30 | C28: Bozděch | D28: Zděnek | E28: M | F28: 1970 | G28: Koronabar | H28: =IF(E28="M",LOOKUP($H$2-F28,{0;40;50;60;70},{"muži A";"muži B";"muži C";"muži D";"muži E"}),IF(E28="Ž",LOOKUP($H$2-F28,{0;40;50},{"ženy F";"ženy G";"ženy H"}),"ERR")) -> muži C
A29: =A28+1 -> 24 | C29: Bozděchová | D29: Věrka | E29: Ž | F29: 1980 | G29: TJ Liga 100 Olomouc | H29: =IF(E29="M",LOOKUP($H$2-F29,{0;40;50;60;70},{"muži A";"muži B";"muži C";"muži D";"muži E"}),IF(E29="Ž",LOOKUP($H$2-F29,{0;40;50},{"ženy F";"ženy G";"ženy H"}),"ERR")) -> ženy G
A30: =A29+1 -> 25 | C30: Braverová | D30: Sára | E30: Ž | F30: 1992 | G30: neudáno | H30: =IF(E30="M",LOOKUP($H$2-F30,{0;40;50;60;70},{"muži A";"muži B";"muži C";"muži D";"muži E"}),IF(E30="Ž",LOOKUP($H$2-F30,{0;40;50},{"ženy F";"ženy G";"ženy H"}),"ERR")) -> ženy F
A31: =A30+1 -> 26 | B31: 116 | C31: Bubeníček | D31: Adam | E31: M | F31: 2015 | G31: PSŠT | H31: P
A32: =A31+1 -> 27 | C32: Bubla | D32: Jiří | E32: M | F32: 1977 | G32: - | H32: =IF(E32="M",LOOKUP($H$2-F32,{0;40;50;60;70},{"muži A";"muži B";"muži C";"muži D";"muži E"}),IF(E32="Ž",LOOKUP($H$2-F32,{0;40;50},{"ženy F";"ženy G";"ženy H"}),"ERR")) -> muži B
A33: =A32+1 -> 28 | C33: Bučík | D33: Jaromír | E33: M | F33: 1957 | G33: Olomouc | H33: =IF(E33="M",LOOKUP($H$2-F33,{0;40;50;60;70},{"muži A";"muži B";"muži C";"muži D";"muži E"}),IF(E33="Ž",LOOKUP($H$2-F33,{0;40;50},{"ženy F";"ženy G";"ženy H"}),"ERR")) -> muži D
A34: =A33+1 -> 29 | B34: 45 | C34: Burda | D34: Filip | E34: M | F34: 1991 | G34: Atletika Alojzov | H34: =IF(E34="M",LOOKUP($H$2-F34,{0;40;50;60;70},{"muži A";"muži B";"muži C";"muži D";"muži E"}),IF(E34="Ž",LOOKUP($H$2-F34,{0;40;50},{"ženy F";"ženy G";"ženy H"}),"ERR")) -> muži A
A35: =A34+1 -> 30 | C35: Burdová | D35: Hana | E35: Ž | F35: 2008 | G35: SKI-OB Šternberk | H35: P
A36: =A35+1 -> 31 | C36: Burdová | D36: Helena | E36: Ž | F36: 2006 | G36: SKI-OB Šternberk | H36: P
A37: =A36+1 -> 32 | C37: Cekl | D37: Martin | E37: M | F37: 1988 | G37: LADERMON TEAM | H37: =IF(E37="M",LOOKUP($H$2-F37,{0;40;50;60;70},{"muži A";"muži B";"muži C";"muži D";"muži E"}),IF(E37="Ž",LOOKUP($H$2-F37,{0;40;50},{"ženy F";"ženy G";"ženy H"}),"ERR")) -> muži A
A38: =A37+1 -> 33 | C38: Cepníková | D38: Irena | E38: Ž | F38: 1995 | G38: MAS Šternberk | H38: =IF(E38="M",LOOKUP($H$2-F38,{0;40;50;60;70},{"muži A";"muži B";"muži C";"muži D";"muži E"}),IF(E38="Ž",LOOKUP($H$2-F38,{0;40;50},{"ženy F";"ženy G";"ženy H"}),"ERR")) -> ženy F
A39: =A38+1 -> 34 | C39: Cimprich | D39: Petr | E39: M | F39: 1986 | G39: NW Olomouc | H39: =IF(E39="M",LOOKUP($H$2-F39,{0;40;50;60;70},{"muži A";"muži B";"muži C";"muži D";"muži E"}),IF(E39="Ž",LOOKUP($H$2-F39,{0;40;50},{"ženy F";"ženy G";"ženy H"}),"ERR")) -> muži B
A40: =A39+1 -> 35 | C40: Czmero | D40: Jaromír | E40: M | F40: 1981 | G40: Hanacký větre | H40: =IF(E40="M",LOOKUP($H$2-F40,{0;40;50;60;70},{"muži A";"muži B";"muži C";"muži D";"muži E"}),IF(E40="Ž",LOOKUP($H$2-F40,{0;40;50},{"ženy F";"ženy G";"ženy H"}),"ERR")) -> muži B
A41: =A40+1 -> 36 | C41: Čech | D41: Martin | E41: M | F41: 2007 | G41: Kopeček | H41: P
...

Sheet Časy
B2: Startovní číslo | C2: minut | D2: sekund | E2: Čas
A3: 1 | B3: 115 | C3: 15 | D3: 10 | E3: =TIME(0,C3,D3) -> 0.010532407
A4: 2 | B4: 112 | C4: 16 | D4: 39 | E4: =TIME(0,C4,D4) -> 0.0115625
A5: 3 | B5: 116 | C5: 16 | D5: 45 | E5: =TIME(0,C5,D5) -> 0.011631944
A6: 4 | B6: 119 | C6: 16 | D6: 52 | E6: =TIME(0,C6,D6) -> 0.011712963
A7: 5 | B7: 121 | C7: 17 | D7: 47 | E7: =TIME(0,C7,D7) -> 0.012349537
A8: 6 | B8: 111 | C8: 19 | D8: 12 | E8: =TIME(0,C8,D8) -> 0.013333333
A9: 7 | B9: 120 | C9: 22 | D9: 16 | E9: =TIME(0,C9,D9) -> 0.015462963
A10: 8 | B10: 114 | C10: 22 | D10: 23 | E10: =TIME(0,C10,D10) -> 0.015543981
A11: 9 | B11: 113 | C11: 22 | D11: 24 | E11: =TIME(0,C11,D11) -> 0.015555556
A12: 10 | B12: 117 | C12: 24 | D12: 0 | E12: =TIME(0,C12,D12) -> 0.016666667
A13: 11 | B13: 43 | C13: 27 | D13: 44 | E13: =TIME(0,C13,D13) -> 0.019259259
A14: 12 | B14: 39 | C14: 28 | D14: 6 | E14: =TIME(0,C14,D14) -> 0.019513889
... A83: 81 | B83: 6 | C83: 58 | D83: 36 | E83: =TIME(0,C83,D83) -> 0.040694444
A84: 82 | B84: 73 | E84: DNF
A85: 83 | E85: =TIME(0,C85,D85) -> 0
A86: 84 | E86: =TIME(0,C86,D86) -> 0
A87: 85 | E87: =TIME(0,C87,D87) -> 0
A88: 86 | E88: =TIME(0,C88,D88) -> 0
A89: 87 | E89: =TIME(0,C89,D89) -> 0
A90: 88 | E90: =TIME(0,C90,D90) -> 0
A91: 89 | E91: =TIME(0,C91,D91) -> 0
A92: 90 | E92: =TIME(0,C92,D92) -> 0
A93: 91 | E93: =TIME(0,C93,D93) -> 0
A94: 92 | E94: =TIME(0,C94,D94) -> 0
A95: 93 | E95: =TIME(0,C95,D95) -> 0
A96: 94 | E96: =TIME(0,C96,D96) -> 0
... A176: 174 | E176: =TIME(0,C176,D176) -> 0

Sheet Výsledky - řazení
B2: "S KOPEČKA DO KOPEČKA" | H2: ='Databáze_běžců+Startovka'!H2 -> 2026
D3: ='Databáze_běžců+Startovka'!D3 -> 46274 | G3: Výsledky - řazení
B5: Startovní číslo | C5: Příjmení | D5: Jméno | E5: Pohlaví | F5: Rok narození | G5: Oddíl | H5: Kategorie | I5: Čas
A6: 1 | B6: =Časy!B3 -> 115 | C6: =VLOOKUP($B6,'Databáze_běžců+Startovka'!$B$6:$H$803,2,FALSE) -> Slinták | D6: =VLOOKUP($B6,'Databáze_běžců+Startovka'!$B$6:$H$803,3,FALSE) -> Josef | E6: =VLOOKUP($B6,'Databáze_běžců+Startovka'!$B$6:$H$803,4,FALSE) -> M | F6: =VLOOKUP($B6,'Databáze_běžců+Startovka'!$B$6:$H$803,5,FALSE) -> 2013 | G6: =VLOOKUP($B6,'Databáze_běžců+Startovka'!$B$6:$H$803,6,FALSE) -> AK Šternberk | H6: =VLOOKUP($B6,'Databáze_běžců+Startovka'!$B$6:$H$803,7,FALSE) -> P | I6: =VLOOKUP($B6,Časy!$B$3:$E$957,4,FALSE) -> 0.010532407
A7: 2 | B7: =Časy!B4 -> 112 | C7: =VLOOKUP($B7,'Databáze_běžců+Startovka'!$B$6:$H$803,2,FALSE) -> Doležal | D7: =VLOOKUP($B7,'Databáze_běžců+Startovka'!$B$6:$H$803,3,FALSE) -> Jakub | E7: =VLOOKUP($B7,'Databáze_běžců+Startovka'!$B$6:$H$803,4,FALSE) -> M | F7: =VLOOKUP($B7,'Databáze_běžců+Startovka'!$B$6:$H$803,5,FALSE) -> 2014 | G7: =VLOOKUP($B7,'Databáze_běžců+Startovka'!$B$6:$H$803,6,FALSE) -> AK Šternberk | H7: =VLOOKUP($B7,'Databáze_běžců+Startovka'!$B$6:$H$803,7,FALSE) -> P | I7: =VLOOKUP($B7,Časy!$B$3:$E$957,4,FALSE) -> 0.0115625
A8: 3 | B8: =Časy!B5 -> 116 | C8: =VLOOKUP($B8,'Databáze_běžců+Startovka'!$B$6:$H$803,2,FALSE) -> Bubeníček | D8: =VLOOKUP($B8,'Databáze_běžců+Startovka'!$B$6:$H$803,3,FALSE) -> Adam | E8: =VLOOKUP($B8,'Databáze_běžců+Startovka'!$B$6:$H$803,4,FALSE) -> M | F8: =VLOOKUP($B8,'Databáze_běžců+Startovka'!$B$6:$H$803,5,FALSE) -> 2015 | G8: =VLOOKUP($B8,'Databáze_běžců+Startovka'!$B$6:$H$803,6,FALSE) -> PSŠT | H8: =VLOOKUP($B8,'Databáze_běžců+Startovka'!$B$6:$H$803,7,FALSE) -> P | I8: =VLOOKUP($B8,Časy!$B$3:$E$957,4,FALSE) -> 0.011631944
A9: 4 | B9: =Časy!B6 -> 119 | C9: =VLOOKUP($B9,'Databáze_běžců+Startovka'!$B$6:$H$803,2,FALSE) -> Poledna | D9: =VLOOKUP($B9,'Databáze_běžců+Startovka'!$B$6:$H$803,3,FALSE) -> Lukáš | E9: =VLOOKUP($B9,'Databáze_běžců+Startovka'!$B$6:$H$803,4,FALSE) -> M | F9: =VLOOKUP($B9,'Databáze_běžců+Startovka'!$B$6:$H$803,5,FALSE) -> 2013 | G9: =VLOOKUP($B9,'Databáze_běžců+Startovka'!$B$6:$H$803,6,FALSE) -> AC Uničov | H9: =VLOOKUP($B9,'Databáze_běžců+Startovka'!$B$6:$H$803,7,FALSE) -> P | I9: =VLOOKUP($B9,Časy!$B$3:$E$957,4,FALSE) -> 0.011712963
A10: 5 | B10: =Časy!B7 -> 121 | C10: =VLOOKUP($B10,'Databáze_běžců+Startovka'!$B$6:$H$803,2,FALSE) -> Vysloužil | D10: =VLOOKUP($B10,'Databáze_běžců+Startovka'!$B$6:$H$803,3,FALSE) -> Pavel | E10: =VLOOKUP($B10,'Databáze_běžců+Startovka'!$B$6:$H$803,4,FALSE) -> M | F10: =VLOOKUP($B10,'Databáze_běžců+Startovka'!$B$6:$H$803,5,FALSE) -> 2015 | G10: =VLOOKUP($B10,'Databáze_běžců+Startovka'!$B$6:$H$803,6,FALSE) -> --- | H10: =VLOOKUP($B10,'Databáze_běžců+Startovka'!$B$6:$H$803,7,FALSE) -> P | I10: =VLOOKUP($B10,Časy!$B$3:$E$957,4,FALSE) -> 0.012349537
A11: 6 | B11: =Časy!B8 -> 111 | C11: =VLOOKUP($B11,'Databáze_běžců+Startovka'!$B$6:$H$803,2,FALSE) -> Stuchlová | D11: =VLOOKUP($B11,'Databáze_běžců+Startovka'!$B$6:$H$803,3,FALSE) -> Karolína | E11: =VLOOKUP($B11,'Databáze_běžců+Startovka'!$B$6:$H$803,4,FALSE) -> Ž | F11: =VLOOKUP($B11,'Databáze_běžců+Startovka'!$B$6:$H$803,5,FALSE) -> 2017 | G11: =VLOOKUP($B11,'Databáze_běžců+Startovka'!$B$6:$H$803,6,FALSE) -> -- | H11: =VLOOKUP($B11,'Databáze_běžců+Startovka'!$B$6:$H$803,7,FALSE) -> P | I11: =VLOOKUP($B11,Časy!$B$3:$E$957,4,FALSE) -> 0.013333333
A12: 7 | B12: =Časy!B9 -> 120 | C12: =VLOOKUP($B12,'Databáze_běžců+Startovka'!$B$6:$H$803,2,FALSE) -> Kropáček | D12: =VLOOKUP($B12,'Databáze_běžců+Startovka'!$B$6:$H$803,3,FALSE) -> Šimon | E12: =VLOOKUP($B12,'Databáze_běžců+Startovka'!$B$6:$H$803,4,FALSE) -> M | F12: =VLOOKUP($B12,'Databáze_běžců+Startovka'!$B$6:$H$803,5,FALSE) -> 2014 | G12: =VLOOKUP($B12,'Databáze_běžců+Startovka'!$B$6:$H$803,6,FALSE) -> SKI OB Šternberk | H12: =VLOOKUP($B12,'Databáze_běžců+Startovka'!$B$6:$H$803,7,FALSE) -> P | I12: =VLOOKUP($B12,Časy!$B$3:$E$957,4,FALSE) -> 0.015462963
A13: 8 | B13: =Časy!B10 -> 114 | C13: =VLOOKUP($B13,'Databáze_běžců+Startovka'!$B$6:$H$803,2,FALSE) -> Zlámalová | D13: =VLOOKUP($B13,'Databáze_běžců+Startovka'!$B$6:$H$803,3,FALSE) -> Rozárie | E13: =VLOOKUP($B13,'Databáze_běžců+Startovka'!$B$6:$H$803,4,FALSE) -> Ž | F13: =VLOOKUP($B13,'Databáze_běžců+Startovka'!$B$6:$H$803,5,FALSE) -> 2016 | G13: =VLOOKUP($B13,'Databáze_běžců+Startovka'!$B$6:$H$803,6,FALSE) -> AK Olomouc | H13: =VLOOKUP($B13,'Databáze_běžců+Startovka'!$B$6:$H$803,7,FALSE) -> P | I13: =VLOOKUP($B13,Časy!$B$3:$E$957,4,FALSE) -> 0.015543981
A14: 9 | B14: =Časy!B11 -> 113 | C14: =VLOOKUP($B14,'Databáze_běžců+Startovka'!$B$6:$H$803,2,FALSE) -> Parobková | D14: =VLOOKUP($B14,'Databáze_běžců+Startovka'!$B$6:$H$803,3,FALSE) -> Stella | E14: =VLOOKUP($B14,'Databáze_běžců+Startovka'!$B$6:$H$803,4,FALSE) -> Ž | F14: =VLOOKUP($B14,'Databáze_běžců+Startovka'!$B$6:$H$803,5,FALSE) -> 2009 | G14: =VLOOKUP($B14,'Databáze_běžců+Startovka'!$B$6:$H$803,6,FALSE) -> AK Šternberk | H14: =VLOOKUP($B14,'Databáze_běžců+Startovka'!$B$6:$H$803,7,FALSE) -> P | I14: =VLOOKUP($B14,Časy!$B$3:$E$957,4,FALSE) -> 0.015555556
A15: 10 | B15: =Časy!B12 -> 117 | C15: =VLOOKUP($B15,'Databáze_běžců+Startovka'!$B$6:$H$803,2,FALSE) -> Rončáková | D15: =VLOOKUP($B15,'Databáze_běžců+Startovka'!$B$6:$H$803,3,FALSE) -> Markéta | E15: =VLOOKUP($B15,'Databáze_běžců+Startovka'!$B$6:$H$803,4,FALSE) -> Ž | F15: =VLOOKUP($B15,'Databáze_běžců+Startovka'!$B$6:$H$803,5,FALSE) -> 2006 | G15: =VLOOKUP($B15,'Databáze_běžců+Startovka'!$B$6:$H$803,6,FALSE) -> Bělkovice | H15: =VLOOKUP($B15,'Databáze_běžců+Startovka'!$B$6:$H$803,7,FALSE) -> P | I15: =VLOOKUP($B15,Časy!$B$3:$E$957,4,FALSE) -> 0.016666667
A16: 11 | B16: =Časy!B13 -> 43 | C16: =VLOOKUP($B16,'Databáze_běžců+Startovka'!$B$6:$H$803,2,FALSE) -> Poklop | D16: =VLOOKUP($B16,'Databáze_běžců+Startovka'!$B$6:$H$803,3,FALSE) -> Martin | E16: =VLOOKUP($B16,'Databáze_běžců+Startovka'!$B$6:$H$803,4,FALSE) -> M | F16: =VLOOKUP($B16,'Databáze_běžců+Startovka'!$B$6:$H$803,5,FALSE) -> 1988 | G16: =VLOOKUP($B16,'Databáze_běžců+Startovka'!$B$6:$H$803,6,FALSE) -> Fortex Moravský Beroun | H16: =VLOOKUP($B16,'Databáze_běžců+Startovka'!$B$6:$H$803,7,FALSE) -> muži A | I16: =VLOOKUP($B16,Časy!$B$3:$E$957,4,FALSE) -> 0.019259259
A17: 12 | B17: =Časy!B14 -> 39 | C17: =VLOOKUP($B17,'Databáze_běžců+Startovka'!$B$6:$H$803,2,FALSE) -> Dvořák | D17: =VLOOKUP($B17,'Databáze_běžců+Startovka'!$B$6:$H$803,3,FALSE) -> Pavel | E17: =VLOOKUP($B17,'Databáze_běžců+Startovka'!$B$6:$H$803,4,FALSE) -> M | F17: =VLOOKUP($B17,'Databáze_běžců+Startovka'!$B$6:$H$803,5,FALSE) -> 1982 | G17: =VLOOKUP($B17,'Databáze_běžců+Startovka'!$B$6:$H$803,6,FALSE) -> Atletika Alojzov | H17: =VLOOKUP($B17,'Databáze_běžců+Startovka'!$B$6:$H$803,7,FALSE) -> muži B | I17: =VLOOKUP($B17,Časy!$B$3:$E$957,4,FALSE) -> 0.019513889
... A168: 163 | B168: =Časy!B165 -> 0 | C168: =VLOOKUP($B168,'Databáze_běžců+Startovka'!$B$6:$H$803,2,FALSE) -> #N/A | D168: =VLOOKUP($B168,'Databáze_běžců+Startovka'!$B$6:$H$803,3,FALSE) -> #N/A | E168: =VLOOKUP($B168,'Databáze_běžců+Startovka'!$B$6:$H$803,4,FALSE) -> #N/A | F168: =VLOOKUP($B168,'Databáze_běžců+Startovka'!$B$6:$H$803,5,FALSE) -> #N/A | G168: =VLOOKUP($B168,'Databáze_běžců+Startovka'!$B$6:$H$803,6,FALSE) -> #N/A | H168: =VLOOKUP($B168,'Databáze_běžců+Startovka'!$B$6:$H$803,7,FALSE) -> #N/A | I168: =VLOOKUP($B168,Časy!$B$3:$E$957,4,FALSE) -> #N/A
B169: =Časy!B166 -> 0 | C169: =VLOOKUP($B169,'Databáze_běžců+Startovka'!$B$6:$H$803,2,FALSE) -> #N/A | D169: =VLOOKUP($B169,'Databáze_běžců+Startovka'!$B$6:$H$803,3,FALSE) -> #N/A | E169: =VLOOKUP($B169,'Databáze_běžců+Startovka'!$B$6:$H$803,4,FALSE) -> #N/A | F169: =VLOOKUP($B169,'Databáze_běžců+Startovka'!$B$6:$H$803,5,FALSE) -> #N/A | G169: =VLOOKUP($B169,'Databáze_běžců+Startovka'!$B$6:$H$803,6,FALSE) -> #N/A | H169: =VLOOKUP($B169,'Databáze_běžců+Startovka'!$B$6:$H$803,7,FALSE) -> #N/A | I169: =VLOOKUP($B169,Časy!$B$3:$E$957,4,FALSE) -> #N/A
B170: =Časy!B167 -> 0 | C170: =VLOOKUP($B170,'Databáze_běžců+Startovka'!$B$6:$H$803,2,FALSE) -> #N/A | D170: =VLOOKUP($B170,'Databáze_běžců+Startovka'!$B$6:$H$803,3,FALSE) -> #N/A | E170: =VLOOKUP($B170,'Databáze_běžců+Startovka'!$B$6:$H$803,4,FALSE) -> #N/A | F170: =VLOOKUP($B170,'Databáze_běžců+Startovka'!$B$6:$H$803,5,FALSE) -> #N/A | G170: =VLOOKUP($B170,'Databáze_běžců+Startovka'!$B$6:$H$803,6,FALSE) -> #N/A | H170: =VLOOKUP($B170,'Databáze_běžců+Startovka'!$B$6:$H$803,7,FALSE) -> #N/A | I170: =VLOOKUP($B170,Časy!$B$3:$E$957,4,FALSE) -> #N/A
B171: =Časy!B168 -> 0 | C171: =VLOOKUP($B171,'Databáze_běžců+Startovka'!$B$6:$H$803,2,FALSE) -> #N/A | D171: =VLOOKUP($B171,'Databáze_běžců+Startovka'!$B$6:$H$803,3,FALSE) -> #N/A | E171: =VLOOKUP($B171,'Databáze_běžců+Startovka'!$B$6:$H$803,4,FALSE) -> #N/A | F171: =VLOOKUP($B171,'Databáze_běžců+Startovka'!$B$6:$H$803,5,FALSE) -> #N/A | G171: =VLOOKUP($B171,'Databáze_běžců+Startovka'!$B$6:$H$803,6,FALSE) -> #N/A | H171: =VLOOKUP($B171,'Databáze_běžců+Startovka'!$B$6:$H$803,7,FALSE) -> #N/A | I171: =VLOOKUP($B171,Časy!$B$3:$E$957,4,FALSE) -> #N/A
B172: =Časy!B169 -> 0 | C172: =VLOOKUP($B172,'Databáze_běžců+Startovka'!$B$6:$H$803,2,FALSE) -> #N/A | D172: =VLOOKUP($B172,'Databáze_běžců+Startovka'!$B$6:$H$803,3,FALSE) -> #N/A | E172: =VLOOKUP($B172,'Databáze_běžců+Startovka'!$B$6:$H$803,4,FALSE) -> #N/A | F172: =VLOOKUP($B172,'Databáze_běžců+Startovka'!$B$6:$H$803,5,FALSE) -> #N/A | G172: =VLOOKUP($B172,'Databáze_běžců+Startovka'!$B$6:$H$803,6,FALSE) -> #N/A | H172: =VLOOKUP($B172,'Databáze_běžců+Startovka'!$B$6:$H$803,7,FALSE) -> #N/A | I172: =VLOOKUP($B172,Časy!$B$3:$E$957,4,FALSE) -> #N/A
B173: =Časy!B170 -> 0 | C173: =VLOOKUP($B173,'Databáze_běžců+Startovka'!$B$6:$H$803,2,FALSE) -> #N/A | D173: =VLOOKUP($B173,'Databáze_běžců+Startovka'!$B$6:$H$803,3,FALSE) -> #N/A | E173: =VLOOKUP($B173,'Databáze_běžců+Startovka'!$B$6:$H$803,4,FALSE) -> #N/A | F173: =VLOOKUP($B173,'Databáze_běžců+Startovka'!$B$6:$H$803,5,FALSE) -> #N/A | G173: =VLOOKUP($B173,'Databáze_běžců+Startovka'!$B$6:$H$803,6,FALSE) -> #N/A | H173: =VLOOKUP($B173,'Databáze_běžců+Startovka'!$B$6:$H$803,7,FALSE) -> #N/A | I173: =VLOOKUP($B173,Časy!$B$3:$E$957,4,FALSE) -> #N/A
B174: =Časy!B171 -> 0 | C174: =VLOOKUP($B174,'Databáze_běžců+Startovka'!$B$6:$H$803,2,FALSE) -> #N/A | D174: =VLOOKUP($B174,'Databáze_běžců+Startovka'!$B$6:$H$803,3,FALSE) -> #N/A | E174: =VLOOKUP($B174,'Databáze_běžců+Startovka'!$B$6:$H$803,4,FALSE) -> #N/A | F174: =VLOOKUP($B174,'Databáze_běžců+Startovka'!$B$6:$H$803,5,FALSE) -> #N/A | G174: =VLOOKUP($B174,'Databáze_běžců+Startovka'!$B$6:$H$803,6,FALSE) -> #N/A | H174: =VLOOKUP($B174,'Databáze_běžců+Startovka'!$B$6:$H$803,7,FALSE) -> #N/A | I174: =VLOOKUP($B174,Časy!$B$3:$E$957,4,FALSE) -> #N/A
B175: =Časy!B172 -> 0 | C175: =VLOOKUP($B175,'Databáze_běžců+Startovka'!$B$6:$H$803,2,FALSE) -> #N/A | D175: =VLOOKUP($B175,'Databáze_běžců+Startovka'!$B$6:$H$803,3,FALSE) -> #N/A | E175: =VLOOKUP($B175,'Databáze_běžců+Startovka'!$B$6:$H$803,4,FALSE) -> #N/A | F175: =VLOOKUP($B175,'Databáze_běžců+Startovka'!$B$6:$H$803,5,FALSE) -> #N/A | G175: =VLOOKUP($B175,'Databáze_běžců+Startovka'!$B$6:$H$803,6,FALSE) -> #N/A | H175: =VLOOKUP($B175,'Databáze_běžců+Startovka'!$B$6:$H$803,7,FALSE) -> #N/A | I175: =VLOOKUP($B175,Časy!$B$3:$E$957,4,FALSE) -> #N/A
B176: =Časy!B173 -> 0 | C176: =VLOOKUP($B176,'Databáze_běžců+Startovka'!$B$6:$H$803,2,FALSE) -> #N/A | D176: =VLOOKUP($B176,'Databáze_běžců+Startovka'!$B$6:$H$803,3,FALSE) -> #N/A | E176: =VLOOKUP($B176,'Databáze_běžců+Startovka'!$B$6:$H$803,4,FALSE) -> #N/A | F176: =VLOOKUP($B176,'Databáze_běžců+Startovka'!$B$6:$H$803,5,FALSE) -> #N/A | G176: =VLOOKUP($B176,'Databáze_běžců+Startovka'!$B$6:$H$803,6,FALSE) -> #N/A | H176: =VLOOKUP($B176,'Databáze_běžců+Startovka'!$B$6:$H$803,7,FALSE) -> #N/A | I176: =VLOOKUP($B176,Časy!$B$3:$E$957,4,FALSE) -> #N/A
B177: =Časy!B174 -> 0 | C177: =VLOOKUP($B177,'Databáze_běžců+Startovka'!$B$6:$H$803,2,FALSE) -> #N/A | D177: =VLOOKUP($B177,'Databáze_běžců+Startovka'!$B$6:$H$803,3,FALSE) -> #N/A | E177: =VLOOKUP($B177,'Databáze_běžců+Startovka'!$B$6:$H$803,4,FALSE) -> #N/A | F177: =VLOOKUP($B177,'Databáze_běžců+Startovka'!$B$6:$H$803,5,FALSE) -> #N/A | G177: =VLOOKUP($B177,'Databáze_běžců+Startovka'!$B$6:$H$803,6,FALSE) -> #N/A | H177: =VLOOKUP($B177,'Databáze_běžců+Startovka'!$B$6:$H$803,7,FALSE) -> #N/A | I177: =VLOOKUP($B177,Časy!$B$3:$E$957,4,FALSE) -> #N/A
B178: =Časy!B175 -> 0 | C178: =VLOOKUP($B178,'Databáze_běžců+Startovka'!$B$6:$H$803,2,FALSE) -> #N/A | D178: =VLOOKUP($B178,'Databáze_běžců+Startovka'!$B$6:$H$803,3,FALSE) -> #N/A | E178: =VLOOKUP($B178,'Databáze_běžců+Startovka'!$B$6:$H$803,4,FALSE) -> #N/A | F178: =VLOOKUP($B178,'Databáze_běžců+Startovka'!$B$6:$H$803,5,FALSE) -> #N/A | G178: =VLOOKUP($B178,'Databáze_běžců+Startovka'!$B$6:$H$803,6,FALSE) -> #N/A | H178: =VLOOKUP($B178,'Databáze_běžců+Startovka'!$B$6:$H$803,7,FALSE) -> #N/A | I178: =VLOOKUP($B178,Časy!$B$3:$E$957,4,FALSE) -> #N/A
B179: =Časy!B176 -> 0 | C179: =VLOOKUP($B179,'Databáze_běžců+Startovka'!$B$6:$H$803,2,FALSE) -> #N/A | D179: =VLOOKUP($B179,'Databáze_běžců+Startovka'!$B$6:$H$803,3,FALSE) -> #N/A | E179: =VLOOKUP($B179,'Databáze_běžců+Startovka'!$B$6:$H$803,4,FALSE) -> #N/A | F179: =VLOOKUP($B179,'Databáze_běžců+Startovka'!$B$6:$H$803,5,FALSE) -> #N/A | G179: =VLOOKUP($B179,'Databáze_běžců+Startovka'!$B$6:$H$803,6,FALSE) -> #N/A | H179: =VLOOKUP($B179,'Databáze_běžců+Startovka'!$B$6:$H$803,7,FALSE) -> #N/A | I179: =VLOOKUP($B179,Časy!$B$3:$E$957,4,FALSE) -> #N/A
B180: =Časy!B177 -> 0 | C180: =VLOOKUP($B180,'Databáze_běžců+Startovka'!$B$6:$H$803,2,FALSE) -> #N/A | D180: =VLOOKUP($B180,'Databáze_běžců+Startovka'!$B$6:$H$803,3,FALSE) -> #N/A | E180: =VLOOKUP($B180,'Databáze_běžců+Startovka'!$B$6:$H$803,4,FALSE) -> #N/A | F180: =VLOOKUP($B180,'Databáze_běžců+Startovka'!$B$6:$H$803,5,FALSE) -> #N/A | G180: =VLOOKUP($B180,'Databáze_běžců+Startovka'!$B$6:$H$803,6,FALSE) -> #N/A | H180: =VLOOKUP($B180,'Databáze_běžců+Startovka'!$B$6:$H$803,7,FALSE) -> #N/A | I180: =VLOOKUP($B180,Časy!$B$3:$E$957,4,FALSE) -> #N/A
... B198: =Časy!B195 -> 0 | C198: =VLOOKUP($B198,'Databáze_běžců+Startovka'!$B$6:$H$803,2,FALSE) -> #N/A | D198: =VLOOKUP($B198,'Databáze_běžců+Startovka'!$B$6:$H$803,3,FALSE) -> #N/A | E198: =VLOOKUP($B198,'Databáze_běžců+Startovka'!$B$6:$H$803,4,FALSE) -> #N/A | F198: =VLOOKUP($B198,'Databáze_běžců+Startovka'!$B$6:$H$803,5,FALSE) -> #N/A | G198: =VLOOKUP($B198,'Databáze_běžců+Startovka'!$B$6:$H$803,6,FALSE) -> #N/A | H198: =VLOOKUP($B198,'Databáze_běžců+Startovka'!$B$6:$H$803,7,FALSE) -> #N/A | I198: =VLOOKUP($B198,Časy!$B$3:$E$957,4,FALSE) -> #N/A

Sheet Muži_A
C1: "S KOPEČKA DO KOPEČKA" | I1: ='Databáze_běžců+Startovka'!H2 -> 2026
D2: ='Databáze_běžců+Startovka'!D3 -> 46274 | H2: Výsledky Muži A
B4: Pořadí | C4: Startovní číslo | D4: Jméno | F4: Pohlaví | G4: Rok narození | H4: Oddíl | I4: Kategorie | J4: Čas
B5: 1 | C5: 43 | D5: Poklop | E5: Martin | F5: M | G5: 1988 | H5: Fortex Moravský Beroun | I5: muži A | J5: 0.019259259
B6: 2 | C6: 41 | D6: Máčala | E6: Antonín | F6: M | G6: 2008 | H6: SKI-OB Šternberk | I6: muži A | J6: 0.019826389
B7: 3 | C7: 17 | D7: Fochler | E7: Petr | F7: M | G7: 1991 | H7: AK Drnovice | I7: muži A | J7: 0.019849537
B8: 4 | C8: 74 | D8: Krejčí | E8: Zdeněk | F8: M | G8: 1988 | H8: TJ Liga 100 Olomouc | I8: muži A | J8: 0.020613426
B9: 5 | C9: 34 | D9: Vašut | E9: Jakub | F9: M | G9: 1987 | H9: TJ Liga 100 Olomouc | I9: muži A | J9: 0.022384259
B10: 6 | C10: 27 | D10: Kropáček | E10: Lukáš | F10: M | G10: 2010 | H10: 0 | I10: muži A | J10: 0.02306713
B11: 7 | C11: 45 | D11: Burda | E11: Filip | F11: M | G11: 1991 | H11: Atletika Alojzov | I11: muži A | J11: 0.023101852
B12: 8 | C12: 80 | D12: Heger | E12: Adam | F12: M | G12: 2009 | H12: Loop Runclub | I12: muži A | J12: 0.024768519
B13: 9 | C13: 21 | D13: Šarník | E13: Jakub | F13: M | G13: 1995 | H13: Olomouc | I13: muži A | J13: 0.027106481
B14: 10 | C14: 35 | D14: Žák | E14: Bartoloměj | F14: M | G14: 2011 | H14: 0 | I14: muži A | J14: 0.02712963
B15: 11 | C15: 53 | D15: Kořínek | E15: Pavel | F15: M | G15: 2003 | H15: Trisk | I15: muži A | J15: 0.029641204
B16: 12 | C16: 73 | D16: Ambrož | E16: Radek | F16: M | G16: 1993 | H16: AK Olomouc | I16: muži A | J16: DNF
B17: 13
B18: 14
B19: 15
B20: 16
B21: 17
B22: 18
B23: 19
B24: 20
B25: 21
B26: 22
B27: 23
B28: 24
... B31: 27

Sheet Muži_B
C1: "S KOPEČKA DO KOPEČKA" | I1: ='Databáze_běžců+Startovka'!H2 -> 2026
D2: ='Databáze_běžců+Startovka'!D3 -> 46274 | H2: Výsledky Muži B
B4: Pořadí | C4: Startovní číslo | D4: Jméno | F4: Pohlaví | G4: Rok narození | H4: Oddíl | I4: Kategorie | J4: Čas
B5: 1 | C5: 39 | D5: Dvořák | E5: Pavel | F5: M | G5: 1982 | H5: Atletika Alojzov | I5: muži B | J5: 0.019513889
B6: 2 | C6: 56 | D6: Lachnit | E6: Jan | F6: M | G6: 1980 | H6: TJ Liga 100 Olomouc | I6: muži B | J6: 0.02
B7: 3 | C7: 18 | D7: Pollak | E7: Pavel | F7: M | G7: 1980 | H7: SK Hranice | I7: muži B | J7: 0.020451389
B8: 4 | C8: 68 | D8: Otrusina | E8: Jiří | F8: M | G8: 1982 | H8: AK Alojzov | I8: muži B | J8: 0.02130787
B9: 5 | C9: 1 | D9: Aufart | E9: Marek | F9: M | G9: 1986 | H9: -- | I9: muži B | J9: 0.022303241
B10: 6 | C10: 79 | D10: Vysloužil | E10: Pavel | F10: M | G10: 1979 | H10: TJ Liga 100 Olomouc | I10: muži B | J10: 0.022962963
B11: 7 | C11: 75 | D11: Gottwald | E11: Jan | F11: M | G11: 1980 | H11: Agentura 26 | I11: muži B | J11: 0.023356481
B12: 8 | C12: 66 | D12: Krejčí | E12: Tomáš | F12: M | G12: 1986 | H12: TJ Liga 100 Olomouc | I12: muži B | J12: 0.024930556
B13: 9 | C13: 40 | D13: Jedlička | E13: Miloslav | F13: M | G13: 1986 | H13: TJ Liga 100 Olomouc | I13: muži B | J13: 0.025428241
B14: 10 | C14: 52 | D14: Růžička | E14: Richard | F14: M | G14: 1981 | H14: TJ Liga 100 Olomouc | I14: muži B | J14: 0.026122685
B15: 11 | C15: 62 | D15: Protivánek | E15: Jindřich | F15: M | G15: 1980 | H15: SDH Vojnice | I15: muži B | J15: 0.02630787
B16: 12 | C16: 16 | D16: Kolmaš | E16: Zdeněk | F16: M | G16: 1984 | H16: TJ Liga 100 Olomouc | I16: muži B | J16: 0.027685185
... B19: 15 | C19: 36 | D19: Swaczyna | E19: Pavel | F19: M | G19: 1981 | H19: Šternberk | I19: muži B | J19: 0.028726852
B20: 16
B21: 17
B22: 18
B23: 19
B24: 20
B25: 21
B26: 22
B27: 23
B28: 24
B29: 25
B30: 26
B31: 27
... B33: 29

Sheet Muži_C
C1: "S KOPEČKA DO KOPEČKA" | I1: ='Databáze_běžců+Startovka'!H2 -> 2026
D2: ='Databáze_běžců+Startovka'!D3 -> 46274 | H2: Výsledky Muži C
B4: Pořadí | C4: Startovní číslo | D4: Jméno | F4: Pohlaví | G4: Rok narození | H4: Oddíl | I4: Kategorie | J4: Čas
B5: 1 | C5: 11 | D5: Kučera | E5: Petr | F5: M | G5: 1975 | H5: Grymov | I5: muži C | J5: 0.020358796
B6: 2 | C6: 69 | D6: Štěpán | E6: Marek | F6: M | G6: 1972 | H6: TJ Sokol Týn n Bečvou | I6: muži C | J6: 0.021967593
B7: 3 | C7: 77 | D7: Kašpařík | E7: Tomáš | F7: M | G7: 1975 | H7: Přerov | I7: muži C | J7: 0.022268519
B8: 4 | C8: 2 | D8: Frank | E8: Pavel | F8: M | G8: 1968 | H8: TJ Granitol Mor. Beroun | I8: muži C | J8: 0.023078704
B9: 5 | C9: 61 | D9: Kuchař | E9: Jan | F9: M | G9: 1976 | H9: SDH Vojnice | I9: muži C | J9: 0.023159722
B10: 6 | C10: 30 | D10: Bozděch | E10: Zděnek | F10: M | G10: 1970 | H10: Koronabar | I10: muži C | J10: 0.023738426
B11: 7 | C11: 65 | D11: Pěnkava | E11: Radomil | F11: M | G11: 1974 | H11: SC Samotišky | I11: muži C | J11: 0.02375
B12: 8 | C12: 8 | D12: Minařík | E12: Miroslav | F12: M | G12: 1971 | H12: EPS ROTOR | I12: muži C | J12: 0.024247685
B13: 9 | C13: 44 | D13: Jadrný | E13: Petr | F13: M | G13: 1975 | H13: TJ Liga 100 Olomouc | I13: muži C | J13: 0.024282407
B14: 10 | C14: 38 | D14: Grygar | E14: Miroslav | F14: M | G14: 1975 | H14: Šternberk | I14: muži C | J14: 0.024513889
B15: 11 | C15: 47 | D15: Fritscher | E15: Adam | F15: M | G15: 1975 | H15: TJ Liga 100 Olomouc | I15: muži C | J15: 0.025729167
B16: 12 | C16: 71 | D16: Gentric | E16: Marc | F16: M | G16: 1969 | H16: SKI-OB Šternberk | I16: muži C | J16: 0.026261574
... B19: 15 | C19: 76 | D19: Kropáček | E19: Ivo | F19: M | G19: 1976 | H19: SKI OB Šternberk | I19: muži C | J19: 0.031388889
B20: 16
B21: 17
B22: 18
B23: 19
B24: 20
B25: 21
B26: 22
B27: 23
B28: 24
B29: 25
B30: 26
B31: 27

Sheet Muži_D
C1: "S KOPEČKA DO KOPEČKA" | I1: ='Databáze_běžců+Startovka'!H2 -> 2026
D2: ='Databáze_běžců+Startovka'!D3 -> 46274 | H2: Výsledky Muži D
B4: Pořadí | C4: Startovní číslo | D4: Jméno | F4: Pohlaví | G4: Rok narození | H4: Oddíl | I4: Kategorie | J4: Čas
B5: 1 | C5: 37 | D5: Matějík | E5: Petr | F5: M | G5: 1964 | H5: CycloRacing | I5: muži D | J5: 0.02337963
B6: 2 | C6: 24 | D6: Muck | E6: Arnošt | F6: M | G6: 1959 | H6: Hranice | I6: muži D | J6: 0.024178241
B7: 3 | C7: 3 | D7: Doseděl | E7: Emil | F7: M | G7: 1961 | H7: SKI-OB Šternberk | I7: muži D | J7: 0.027743056
B8: 4 | C8: 15 | D8: Juřena | E8: Milan | F8: M | G8: 1960 | H8: TJ Granitol Mor. Beroun | I8: muži D | J8: 0.035092593
B9: 5 | C9: 63 | D9: Kocman | E9: Tomáš | F9: M | G9: 1961 | H9: Papaya | I9: muži D | J9: 0.03755787
B10: 6
B11: 7
B12: 8
B13: 9
B14: 10
B15: 11
B16: 12
B17: 13
B18: 14
B19: 15
B20: 16
B21: 17
... B31: 27

Sheet Muži_E
C1: "S KOPEČKA DO KOPEČKA" | I1: ='Databáze_běžců+Startovka'!H2 -> 2026
D2: ='Databáze_běžců+Startovka'!D3 -> 46274 | H2: Výsledky Muži E
B4: Pořadí | C4: Startovní číslo | D4: Jméno | F4: Pohlaví | G4: Rok narození | H4: Oddíl | I4: Kategorie | J4: Čas
B5: 1 | C5: 7 | D5: Raclavský | E5: Vlastimil | F5: M | G5: 1955 | H5: TJ Liga 100 Olomouc | I5: muži E | J5: 0.027800926
B6: 2 | C6: 4 | D6: Špacír | E6: Ladislav | F6: M | G6: 1955 | H6: Loko Břeclav | I6: muži E | J6: 0.027974537
B7: 3 | C7: 26 | D7: Mráček | E7: Rostislav | F7: M | G7: 1954 | H7: Rokytnice | I7: muži E | J7: 0.033425926
B8: 4 | C8: 48 | D8: Vaněk | E8: Jaromír | F8: M | G8: 1948 | H8: TJ Liga 100 Olomouc | I8: muži E | J8: 0.038391204
B9: 5 | C9: 6 | D9: Morávek | E9: Jiří | F9: M | G9: 1947 | H9: TJ Liga 100 Olomouc | I9: muži E | J9: 0.040694444
B10: 6
B11: 7
B12: 8
B13: 9
B14: 10
B15: 11
B16: 12
B17: 13
B18: 14
B19: 15
B20: 16
B21: 17
... B31: 27

Sheet Ženy_F
C1: "S KOPEČKA DO KOPEČKA" | I1: ='Databáze_běžců+Startovka'!H2 -> 2026
D2: ='Databáze_běžců+Startovka'!D3 -> 46274 | H2: Výsledky Ženy F
B4: Pořadí | C4: Startovní číslo | D4: Jméno | F4: Pohlaví | G4: Rok narození | H4: Oddíl | I4: Kategorie | J4: Čas
B5: 1 | C5: 49 | D5: Špičáková | E5: Jitka | F5: Ž | G5: 1987 | H5: Liga 100 | I5: ženy F | J5: 0.022766204
B6: 2 | C6: 23 | D6: Václavková | E6: Jana | F6: Ž | G6: 1989 | H6: SKI-OB Šternberk | I6: ženy F | J6: 0.02494213
B7: 3 | C7: 70 | D7: Pokorná | E7: Zuzana | F7: Ž | G7: 1987 | H7: --- | I7: ženy F | J7: 0.026331019
B8: 4 | C8: 54 | D8: Koňárová | E8: Sára | F8: Ž | G8: 2001 | H8: 0 | I8: ženy F | J8: 0.026724537
B9: 5 | C9: 59 | D9: Koupilová | E9: Eliška | F9: Ž | G9: 2009 | H9: AK Šternberk | I9: ženy F | J9: 0.027453704
B10: 6 | C10: 25 | D10: Petříková | E10: Krystína | F10: Ž | G10: 2010 | H10: AK Šternberk | I10: ženy F | J10: 0.029733796
B11: 7 | C11: 19 | D11: Šmejkalová | E11: Bára | F11: Ž | G11: 2009 | H11: AK Šternberk | I11: ženy F | J11: 0.030358796
B12: 8 | C12: 50 | D12: Táborská | E12: Gabriela | F12: Ž | G12: 1993 | H12: Svatý Kopeček | I12: ženy F | J12: 0.033472222
B13: 9
B14: 10
B15: 11
B16: 12
B17: 13
B18: 14
B19: 15
B20: 16
B21: 17
B22: 18
B23: 19
B24: 20
... B31: 27

Sheet Ženy_G
C1: "S KOPEČKA DO KOPEČKA" | I1: ='Databáze_běžců+Startovka'!H2 -> 2026
D2: ='Databáze_běžců+Startovka'!D3 -> 46274 | H2: Výsledky Ženy G
B4: Pořadí | C4: Startovní číslo | D4: Jméno | F4: Pohlaví | G4: Rok narození | H4: Oddíl | I4: Kategorie | J4: Čas
B5: 1 | C5: 14 | D5: Mrvková | E5: Michaela | F5: Ž | G5: 1985 | H5: Šternberk | I5: ženy G | J5: 0.023761574
B6: 2 | C6: 10 | D6: Ondrušík | E6: Kateřina | F6: Ž | G6: 1983 | H6: Alisy Sport Team | I6: ženy G | J6: 0.023877315
B7: 3 | C7: 46 | D7: Winterová | E7: Vlaďka | F7: Ž | G7: 1984 | H7: 0 | I7: ženy G | J7: 0.025081019
B8: 4 | C8: 32 | D8: Zdráhalová | E8: Magda | F8: Ž | G8: 1979 | H8: TJ Liga 100 Olomouc | I8: ženy G | J8: 0.02599537
B9: 5 | C9: 78 | D9: Vysloužilová | E9: Jana | F9: Ž | G9: 1983 | H9: TJ Liga 100 Olomouc | I9: ženy G | J9: 0.028784722
B10: 6 | C10: 64 | D10: Krappmannová | E10: Marie | F10: Ž | G10: 1977 | H10: - | I10: ženy G | J10: 0.029212963
B11: 7 | C11: 12 | D11: Kavanová | E11: Vlasta | F11: Ž | G11: 1977 | H11: TJ Granitol Mor. Beroun | I11: ženy G | J11: 0.029571759
B12: 8 | C12: 58 | D12: Polednová | E12: Zuzana | F12: Ž | G12: 1983 | H12: -- | I12: ženy G | J12: 0.034710648
B13: 9 | C13: 28 | D13: Kropáčková | E13: Lucie | F13: Ž | G13: 1977 | H13: AK Šternberk | I13: ženy G | J13: 0.035532407
B14: 10
B15: 11
B16: 12
B17: 13
B18: 14
B19: 15
B20: 16
B21: 17
B22: 18
B23: 19
B24: 20
B25: 21
... B31: 27

Sheet Ženy_H
C1: "S KOPEČKA DO KOPEČKA" | I1: ='Databáze_běžců+Startovka'!H2 -> 2026
D2: ='Databáze_běžců+Startovka'!D3 -> 46274 | H2: Výsledky Ženy H
B4: Pořadí | C4: Startovní číslo | D4: Jméno | F4: Pohlaví | G4: Rok narození | H4: Oddíl | I4: Kategorie | J4: Čas
B5: 1 | C5: 13 | D5: Pařenicová | E5: Kateřina | F5: Ž | G5: 1975 | H5: TJ Mor. Beroun | I5: ženy H | J5: 0.031944444
B6: 2 | C6: 67 | D6: Písková | E6: Ludmila | F6: Ž | G6: 1966 | H6: TJ Liga 100 Olomouc | I6: ženy H | J6: 0.033506944
B7: 3 | C7: 22 | D7: Karlová | E7: Iveta | F7: Ž | G7: 1976 | H7: Hněvotín | I7: ženy H | J7: 0.037638889
B8: 4
B9: 5
B10: 6
B11: 7
B12: 8
B13: 9
B14: 10
B15: 11
B16: 12
B17: 13
B18: 14
B19: 15
... B31: 27

Sheet Příchozí
C1: "S KOPEČKA DO KOPEČKA" | I1: ='Databáze_běžců+Startovka'!H2 -> 2026
D2: ='Databáze_běžců+Startovka'!D3 -> 46274 | H2: P - příchozí 4km (2 okruhy)
B4: Pořadí | C4: Startovní číslo | D4: Jméno | F4: Pohlaví | G4: Rok narození | H4: Oddíl | I4: Kategorie | J4: Čas
B5: 1 | C5: 115 | D5: Slinták | E5: Josef | F5: M | G5: 2013 | H5: AK Šternberk | I5: P | J5: 0.010532407
B6: 2 | C6: 112 | D6: Doležal | E6: Jakub | F6: M | G6: 2014 | H6: AK Šternberk | I6: P | J6: 0.0115625
B7: 3 | C7: 116 | D7: Bubeníček | E7: Adam | F7: M | G7: 2015 | H7: PSŠT | I7: P | J7: 0.011631944
B8: 4 | C8: 119 | D8: Poledna | E8: Lukáš | F8: M | G8: 2013 | H8: AC Uničov | I8: P | J8: 0.011712963
B9: 5 | C9: 121 | D9: Vysloužil | E9: Pavel | F9: M | G9: 2015 | H9: --- | I9: P | J9: 0.012349537
B10: 6 | C10: 111 | D10: Stuchlová | E10: Karolína | F10: Ž | G10: 2017 | H10: -- | I10: P | J10: 0.013333333
B11: 7 | C11: 120 | D11: Kropáček | E11: Šimon | F11: M | G11: 2014 | H11: SKI OB Šternberk | I11: P | J11: 0.015462963
B12: 8 | C12: 114 | D12: Zlámalová | E12: Rozárie | F12: Ž | G12: 2016 | H12: AK Olomouc | I12: P | J12: 0.015543981
B13: 9 | C13: 113 | D13: Parobková | E13: Stella | F13: Ž | G13: 2009 | H13: AK Šternberk | I13: P | J13: 0.015555556
B14: 10 | C14: 117 | D14: Rončáková | E14: Markéta | F14: Ž | G14: 2006 | H14: Bělkovice | I14: P | J14: 0.016666667

Sheet Výsledky_Absolutně
C1: "S KOPEČKA DO KOPEČKA" | I1: ='Databáze_běžců+Startovka'!H2 -> 2026
D2: ='Databáze_běžců+Startovka'!D3 -> 46274 | H2: Výsledky setříděné absolutně
B4: Pořadí | C4: Startovní číslo | D4: Jméno | F4: Pohlaví | G4: Rok narození | H4: Oddíl | I4: Kategorie | J4: Čas
B5: 1 | C5: 43 | D5: Poklop | E5: Martin | F5: M | G5: 1988 | H5: Fortex Moravský Beroun | I5: muži A | J5: 0.019259259
B6: 2 | C6: 39 | D6: Dvořák | E6: Pavel | F6: M | G6: 1982 | H6: Atletika Alojzov | I6: muži B | J6: 0.019513889
B7: 3 | C7: 41 | D7: Máčala | E7: Antonín | F7: M | G7: 2008 | H7: SKI-OB Šternberk | I7: muži A | J7: 0.019826389
B8: 4 | C8: 17 | D8: Fochler | E8: Petr | F8: M | G8: 1991 | H8: AK Drnovice | I8: muži A | J8: 0.019849537
B9: 5 | C9: 56 | D9: Lachnit | E9: Jan | F9: M | G9: 1980 | H9: TJ Liga 100 Olomouc | I9: muži B | J9: 0.02
B10: 6 | C10: 11 | D10: Kučera | E10: Petr | F10: M | G10: 1975 | H10: Grymov | I10: muži C | J10: 0.020358796
B11: 7 | C11: 18 | D11: Pollak | E11: Pavel | F11: M | G11: 1980 | H11: SK Hranice | I11: muži B | J11: 0.020451389
B12: 8 | C12: 74 | D12: Krejčí | E12: Zdeněk | F12: M | G12: 1988 | H12: TJ Liga 100 Olomouc | I12: muži A | J12: 0.020613426
B13: 9 | C13: 68 | D13: Otrusina | E13: Jiří | F13: M | G13: 1982 | H13: AK Alojzov | I13: muži B | J13: 0.02130787
B14: 10 | C14: 69 | D14: Štěpán | E14: Marek | F14: M | G14: 1972 | H14: TJ Sokol Týn n Bečvou | I14: muži C | J14: 0.021967593
B15: 11 | C15: 77 | D15: Kašpařík | E15: Tomáš | F15: M | G15: 1975 | H15: Přerov | I15: muži C | J15: 0.022268519
B16: 12 | C16: 1 | D16: Aufart | E16: Marek | F16: M | G16: 1986 | H16: -- | I16: muži B | J16: 0.022303241
... B19: 15 | C19: 79 | D19: Vysloužil | E19: Pavel | F19: M | G19: 1979 | H19: TJ Liga 100 Olomouc | I19: muži B | J19: 0.022962963
B20: 16 | C20: 27 | D20: Kropáček | E20: Lukáš | F20: M | G20: 2010 | H20: 0 | I20: muži A | J20: 0.02306713
B21: 17 | C21: 2 | D21: Frank | E21: Pavel | F21: M | G21: 1968 | H21: TJ Granitol Mor. Beroun | I21: muži C | J21: 0.023078704
B22: 18 | C22: 45 | D22: Burda | E22: Filip | F22: M | G22: 1991 | H22: Atletika Alojzov | I22: muži A | J22: 0.023101852
B23: 19 | C23: 61 | D23: Kuchař | E23: Jan | F23: M | G23: 1976 | H23: SDH Vojnice | I23: muži C | J23: 0.023159722
B24: 20 | C24: 75 | D24: Gottwald | E24: Jan | F24: M | G24: 1980 | H24: Agentura 26 | I24: muži B | J24: 0.023356481
B25: 21 | C25: 37 | D25: Matějík | E25: Petr | F25: M | G25: 1964 | H25: CycloRacing | I25: muži D | J25: 0.02337963
B26: 22 | C26: 30 | D26: Bozděch | E26: Zděnek | F26: M | G26: 1970 | H26: Koronabar | I26: muži C | J26: 0.023738426
B27: 23 | C27: 65 | D27: Pěnkava | E27: Radomil | F27: M | G27: 1974 | H27: SC Samotišky | I27: muži C | J27: 0.02375
B28: 24 | C28: 14 | D28: Mrvková | E28: Michaela | F28: Ž | G28: 1985 | H28: Šternberk | I28: ženy G | J28: 0.023761574
B29: 25 | C29: 10 | D29: Ondrušík | E29: Kateřina | F29: Ž | G29: 1983 | H29: Alisy Sport Team | I29: ženy G | J29: 0.023877315
B30: 26 | C30: 24 | D30: Muck | E30: Arnošt | F30: M | G30: 1959 | H30: Hranice | I30: muži D | J30: 0.024178241
B31: 27 | C31: 8 | D31: Minařík | E31: Miroslav | F31: M | G31: 1971 | H31: EPS ROTOR | I31: muži C | J31: 0.024247685
B32: 28 | C32: 44 | D32: Jadrný | E32: Petr | F32: M | G32: 1975 | H32: TJ Liga 100 Olomouc | I32: muži C | J32: 0.024282407
... B36: 32 | C36: 23 | D36: Václavková | E36: Jana | F36: Ž | G36: 1989 | H36: SKI-OB Šternberk | I36: ženy F | J36: 0.02494213
B37: 33 | C37: 46 | D37: Winterová | E37: Vlaďka | F37: Ž | G37: 1984 | H37: 0 | I37: ženy G | J37: 0.025081019
B38: 34 | C38: 40 | D38: Jedlička | E38: Miloslav | F38: M | G38: 1986 | H38: TJ Liga 100 Olomouc | I38: muži B | J38: 0.025428241
B39: 35 | C39: 47 | D39: Fritscher | E39: Adam | F39: M | G39: 1975 | H39: TJ Liga 100 Olomouc | I39: muži C | J39: 0.025729167
B40: 36 | C40: 32 | D40: Zdráhalová | E40: Magda | F40: Ž | G40: 1979 | H40: TJ Liga 100 Olomouc | I40: ženy G | J40: 0.02599537
B41: 37 | C41: 52 | D41: Růžička | E41: Richard | F41: M | G41: 1981 | H41: TJ Liga 100 Olomouc | I41: muži B | J41: 0.026122685
B42: 38 | C42: 71 | D42: Gentric | E42: Marc | F42: M | G42: 1969 | H42: SKI-OB Šternberk | I42: muži C | J42: 0.026261574
B43: 39 | C43: 62 | D43: Protivánek | E43: Jindřich | F43: M | G43: 1980 | H43: SDH Vojnice | I43: muži B | J43: 0.02630787
B44: 40 | C44: 70 | D44: Pokorná | E44: Zuzana | F44: Ž | G44: 1987 | H44: --- | I44: ženy F | J44: 0.026331019
B45: 41 | C45: 20 | D45: Šarník | E45: Stanislav | F45: M | G45: 1974 | H45: Olomouc | I45: muži C | J45: 0.026574074
B46: 42 | C46: 54 | D46: Koňárová | E46: Sára | F46: Ž | G46: 2001 | H46: 0 | I46: ženy F | J46: 0.026724537
...
